BEGIN:VCALENDAR
VERSION:2.0
PRODID:-//First National Bankers Bank - ECPv6.15.20//NONSGML v1.0//EN
CALSCALE:GREGORIAN
METHOD:PUBLISH
X-WR-CALNAME:First National Bankers Bank
X-ORIGINAL-URL:https://www.bankers-bank.com
X-WR-CALDESC:Events for First National Bankers Bank
REFRESH-INTERVAL;VALUE=DURATION:PT1H
X-Robots-Tag:noindex
X-PUBLISHED-TTL:PT1H
BEGIN:VTIMEZONE
TZID:America/Chicago
BEGIN:DAYLIGHT
TZOFFSETFROM:-0600
TZOFFSETTO:-0500
TZNAME:CDT
DTSTART:20250309T080000
END:DAYLIGHT
BEGIN:STANDARD
TZOFFSETFROM:-0500
TZOFFSETTO:-0600
TZNAME:CST
DTSTART:20251102T070000
END:STANDARD
BEGIN:DAYLIGHT
TZOFFSETFROM:-0600
TZOFFSETTO:-0500
TZNAME:CDT
DTSTART:20260308T080000
END:DAYLIGHT
BEGIN:STANDARD
TZOFFSETFROM:-0500
TZOFFSETTO:-0600
TZNAME:CST
DTSTART:20261101T070000
END:STANDARD
BEGIN:DAYLIGHT
TZOFFSETFROM:-0600
TZOFFSETTO:-0500
TZNAME:CDT
DTSTART:20270314T080000
END:DAYLIGHT
BEGIN:STANDARD
TZOFFSETFROM:-0500
TZOFFSETTO:-0600
TZNAME:CST
DTSTART:20271107T070000
END:STANDARD
END:VTIMEZONE
BEGIN:VEVENT
DTSTART;TZID=America/Chicago:20260422T090000
DTEND;TZID=America/Chicago:20260424T163000
DTSTAMP:20260424T121030
CREATED:20250103T182709Z
LAST-MODIFIED:20260327T170951Z
UID:6150-1776848400-1777048200@www.bankers-bank.com
SUMMARY:Credit Risk Training  (Bentonville\, AR)
DESCRIPTION:Registration for this session is now closed\, as we have reached maximum capacity.\n  \nCredit Risk Training Program\nDesigned to be a three day course with an intermediate level focus on credit risk. The program includes the use of case studies to reinforce covered subject matter. There will be a review of: \n\nAccounting Principals\nFinancial Statements\nTax Returns\nFundamentals of Credit Risk\nLoan Structure\nCash Flow\nFinancial Statement Trends\nGuarantors\nCollateral\nInvestment Real Estate\nConstruction Lending Risk\n\nThe Ledger Bentonville\n240 S. Main Street\nBentonville\, AR  72712 \nView the Brochure
URL:https://www.bankers-bank.com/event/credit-risk-training-2/
CATEGORIES:Credit Training
ATTACH;FMTTYPE=image/jpeg:https://www.bankers-bank.com/wp-content/uploads/2022/05/Investments-scaled.jpeg
END:VEVENT
END:VCALENDAR