BEGIN:VCALENDAR
VERSION:2.0
PRODID:-//First National Bankers Bank - ECPv6.15.20//NONSGML v1.0//EN
CALSCALE:GREGORIAN
METHOD:PUBLISH
X-WR-CALNAME:First National Bankers Bank
X-ORIGINAL-URL:https://www.bankers-bank.com
X-WR-CALDESC:Events for First National Bankers Bank
REFRESH-INTERVAL;VALUE=DURATION:PT1H
X-Robots-Tag:noindex
X-PUBLISHED-TTL:PT1H
BEGIN:VTIMEZONE
TZID:America/Chicago
BEGIN:DAYLIGHT
TZOFFSETFROM:-0600
TZOFFSETTO:-0500
TZNAME:CDT
DTSTART:20250309T080000
END:DAYLIGHT
BEGIN:STANDARD
TZOFFSETFROM:-0500
TZOFFSETTO:-0600
TZNAME:CST
DTSTART:20251102T070000
END:STANDARD
BEGIN:DAYLIGHT
TZOFFSETFROM:-0600
TZOFFSETTO:-0500
TZNAME:CDT
DTSTART:20260308T080000
END:DAYLIGHT
BEGIN:STANDARD
TZOFFSETFROM:-0500
TZOFFSETTO:-0600
TZNAME:CST
DTSTART:20261101T070000
END:STANDARD
BEGIN:DAYLIGHT
TZOFFSETFROM:-0600
TZOFFSETTO:-0500
TZNAME:CDT
DTSTART:20270314T080000
END:DAYLIGHT
BEGIN:STANDARD
TZOFFSETFROM:-0500
TZOFFSETTO:-0600
TZNAME:CST
DTSTART:20271107T070000
END:STANDARD
END:VTIMEZONE
BEGIN:VEVENT
DTSTART;TZID=America/Chicago:20260520T090000
DTEND;TZID=America/Chicago:20260521T160000
DTSTAMP:20260424T105035
CREATED:20220302T202908Z
LAST-MODIFIED:20260327T170817Z
UID:1129-1779267600-1779379200@www.bankers-bank.com
SUMMARY:ePay ACH Boot Camp - Intermediate / Compliance Specialist
DESCRIPTION:VIRTUAL SESSION \nHosted by FNBB and ePay Resources \nThis two-day compliance-based workshop addresses the heightened regulatory concerns in our rapidly changing payments environment. This intermediate-level workshop focusing on risk mitigation explores new ACH Rules and the options to implement these changes successfully. A focused discussion of ACH origination provides you with the vital information needed to formulate a strategy to effectively implement and grow your program while avoiding costly common mistakes. This session also examines an RDFI’s liability for all post-death federal benefit payments to help you limit your institution’s liability. \nSince no ACH compliance training is complete without a discussion of ACH audit and risk management practices and procedures\, this interactive Boot Camp provides hands-on compliance training in the areas of ACH audit; risk management; origination; and Federal reclamations. \nSeasoned professionals walk away from this intensive two-day class prepared to face the ACH world head on! \nThough not required\, it is recommended that attendees have 2+ years ACH experience due to the elevated level of discussion. \nAAP CEC – 13.2 Credits  /  APRP CEC – 13.2 Credits  /  AFPP CEC – 13.2 Credits \nClick Here to view the brochure.\n \nClick Here to Register Online through the FNBB Event Portal
URL:https://www.bankers-bank.com/event/epay-ach-boot-camp-intermediate-compliance-specialist/
CATEGORIES:ePay Resources ACH Boot Camp
ATTACH;FMTTYPE=image/jpeg:https://www.bankers-bank.com/wp-content/uploads/2022/03/soldier-gff58533d4_640-e1646258953497.jpg
END:VEVENT
BEGIN:VEVENT
DTSTART;TZID=America/Chicago:20261021T090000
DTEND;TZID=America/Chicago:20261022T160000
DTSTAMP:20260424T105035
CREATED:20251014T183628Z
LAST-MODIFIED:20260327T164019Z
UID:7053-1792573200-1792684800@www.bankers-bank.com
SUMMARY:ePay ACH Boot Camp - Basic Fundamentals
DESCRIPTION:VIRTUAL SESSION \nHosted by FNBB and ePay Resources \nUnderstanding the laws\, regulations\, and rules for processing ACH is a must for every financial institution. This two-day workshop is designed to introduce students to the ACH network by providing an in-depth review of the fundamentals for compliant ACH operations. During this class you learn how to identify ACH Network participants; discover how an understanding of ACH terms and payment formats can expedite the resolution of customer inquiries; navigate the maze of the ACH Rules Book to find the information you need; decode an ACH Entry to understand the message being received; chart the course of an ACH Return Entry; dig through the technical specifications of an ACH file; and identify and quickly troubleshoot errors. Enroll today! \nThis seminar is recommended as a pre-cursor to ACH Boot Camp – Compliance Specialist Intermediary Training \nAAP CEC – 13.2 Credits  /  APRP CEC – 13.2 Credits  /  AFPP CEC – 13.2 Credits \nClick Here to view the brochure. \nClick Here to Register Online through the FNBB Event Portal
URL:https://www.bankers-bank.com/event/epay-resources-ach-boot-camp-basic-fundamentals/
CATEGORIES:ePay Resources ACH Boot Camp
ATTACH;FMTTYPE=image/jpeg:https://www.bankers-bank.com/wp-content/uploads/2022/03/soldier-gff58533d4_640-e1646258953497.jpg
END:VEVENT
END:VCALENDAR